Workbook

Sheet 申請の方法
B1: 三木市障害者雇用促進助成金の申請の仕方
A5: ① | B5: 入力シートの基礎データに必要事項を入力してください。
C7: ←ピンク色の箇所に入力してください。
C9: 入 力 例 | D9: 説 明
B10: 企業名 | C10: 株式会社 三木市 | D10: 企業名を入力してください。
B11: 所在地 | C11: 三木市上の丸町20-30 | D11: 主たる事業所の住所を入力してください。
B12: 代表者 | C12: 代表取締役 社長 三木太郎 | D12: 代表者の役職・氏名を入力してください。
B13: 業種 | C13: 製造業 | D13: プルダウンメニューから選択してください。
B14: 電話番号 | C14: 0794-99-9999 | D14: 代表者の電話番号を入力してください。
B15: FAX番号 | C15: 0794-99-9998 | D15: 代表者のFAX番号を入力してください。
B16: E-mail | C16: ｍｉｋｉ＠・・・ | D16: 申請に係る連絡が取れるメールアドレスを入力してください。
B17: 担当所属・氏名 | C17: 総務課 〇△□◎ | D17: 担当者の部署・氏名を入力してください。
B19: ※人数は、令和8年6月1日を基準日として算定願います。
B20: 〇常時雇用労働者数 週30時間以上（実数） | D20: 週30時間以上勤務している従業員数を入力してください。
B21: 内 障害者数
B22: 程度）重度 | C22: 身体１・２級、療育Ａ判定、 | D22: 身体障害者手帳１・２級、療育手帳A判定の所持者数を入力してください。
B23: 程度）軽度 | C23: 上記以外 | D23: 上記以外の、身体障害者手帳３～６級、療育手帳Ｂ判定、精神保健福祉手帳１～３級の所持者数を入力してください。
B25: 〇短時間雇用労働者数 週20時間～週30時間（実数） | D25: 週20時間から30時間未満で勤務している従業員数を入力してください。
B26: 内 障害者数
B27: 程度）重度 | C27: 身体１・２級、療育Ａ判定 | D27: 身体障害者手帳１・２級、療育手帳Ａ判定の所持者数を入力してください。
B28: 程度）軽度 | C28: 上記以外 | D28: 上記以外の、身体障害者手帳３～６級、療育手帳Ｂ判定、精神保健福祉手帳１～３級の所持者数を入力してください。
A31: ② | B31: 提出する書類
B32: 申請書
B33: 《添付書類》
B34: ・障がい者であることが確認できる障害者手帳等の写し（氏名・等級・療育にあっては判定が写しでも判別できること。）
B35: ※従業員数37.5人以上で、市外の障害者雇用で雇っている場合は、その方の障害者手帳の写しも必要
B36: ・雇用関係を証する書類の写し（例：雇用通知書又は雇用(労働)契約書、雇用保険関係書類、就業規則）
B37: ・雇用状況報告書の写し
B38: （障害者の雇用の促進等に関する法律施行規則第7条で規定する数以上の常用雇用労働者を雇用している事業主に限る。)
B39: ・法人市税の納税証明書（直近年度分）の写し
B40: ・助成金の算出根拠のわかる書類（助成金計算書（入力不要））← 別シート
B41: ・その他市長が必要と認める書類（入力シート）← 別シート
A44: ③ | B44: 提出場所
B45: 三木市役所 3階 健康福祉部 障がい福祉課
A48: ④ | B48: 提出期限
B49: 令和９年２月１９日（金）

Sheet 入力シート（要入力）
B1: 三木市障害者雇用促進助成金入力シート【基礎データ】
B3: 区 分 | C3: =IF('助成金計算書（入力不要）'!B7<37.5,"法対象外企業","法対象企業") -> 法対象外企業
B4: 申 請 日 | C4: =TODAY() -> 46322
B5: 企 業 名
B6: 所 在 地 | AI6: ２０人～５５人 | AL6: 製造業
B7: 代 表 者 | AI7: ５６人以上 | AL7: 建設、土木業
B8: 業 種 | F8: ←「その他」を選択された場合はここに業種を上書き入力してください。 | AL8: 運輸業
B9: 電話番号 | AL9: 不動産業
B10: FAX番号 | AL10: 飲食業
B11: E-mail | AL11: 卸売、小売業
B12: 担当所属・氏名 | AL12: 医療、福祉
AL13: 農業関係
B14: 〇常時雇用労働者数 週30時間以上（実数） | E14: 人 | F14: うち三木市民 | H14: 人 | AL14: 金融業
B15: うち障がい者数 | D15: =D16+D17 -> 0 | E15: 人 | F15: うち三木市民 | G15: =G16+G17 -> 0 | H15: 人 | AL15: 保険業
B16: 程度）重度 | C16: 身体１・２級、療育Ａ | E16: 人 | F16: うち三木市民 | H16: 人 | AL16: 電気業・ガス業
B17: 程度）軽度 | C17: その他 (身体３～６級、療育B1・B２、 精神１～３級) | E17: 人 | F17: うち三木市民 | H17: 人 | AL17: 農業水産業
AL18: その他
B19: 〇短時間雇用労働者 週20時間～週30時間（実数） | E19: 人 | F19: うち三木市民 | H19: 人
B20: うち障がい者数 | D20: =D21+D22+D23 -> 0 | E20: 人 | F20: うち三木市民 | G20: =G21+G22*0.5+G23 -> 0 | H20: 人
B21: 程度）重度 | C21: 身体 1・2級、療育 Ａ | E21: 人 | F21: うち三木市民 | H21: 人
B22: 程度）軽度 | C22: ①身体３～６級、療育B１･B２ | E22: 人 | F22: うち三木市民 | H22: 人
C23: ②精神手帳所持者で雇入れから３年以内又は精神手帳取得から３年以内の方 | E23: 人 | F23: うち三木市民 | H23: 人
B24: ※週20時間未満の方は対象外です。
C26: の部分を入力してください。

Sheet 申請書（入力不要）
A1: 様式第１号（第５条関係）
H2: ='入力シート（要入力）'!C4 -> 46322
B4: 三木市長 仲 田 一 彦 様
D6: 所在地又は住所 | F6: ='入力シート（要入力）'!C6 -> 0
D7: 企 業 名 | F7: ='入力シート（要入力）'!C5 -> 0
D8: 代 表 者 名 | J8: （※）
D9: （電話番号） | F9: ='入力シート（要入力）'!C9 -> 0
D10: （※）署名又は記名押印してください。
D11: 区 分 | F11: ='入力シート（要入力）'!C3 -> 法対象外企業
B13: 令和８年度 三木市障害者雇用促進助成金交付申請書
B15: 三木市障害者雇用促進助成金交付要綱第５条の規定により、下記のとおり申請します。
B17: １ 交付申請額 | E17: ='助成金計算書（入力不要）'!B29 -> 0 | H17: 円
B19: ２ 事業所等の名称 | E19: ='入力シート（要入力）'!C5 -> 0
B21: ３ 事業所等の所在地 | E21: ='入力シート（要入力）'!C6 -> 0
B23: ４ 添付書類
B24: （1） | C24: 三木市障害者雇用促進助成金交付要綱第２条第１号に規定する者の障害等級及び判定を証する書類の写し（身体障害者手帳等）
B25: （2） | C25: 三木市障害者雇用促進助成金交付要綱第２条第２号ウに規定する者であることを証する書類の写し（雇用保険被保険者証等）
B26: （3） | C26: 障害者の雇用の促進等に関する法律第４３条第５項に規定する雇用状況報告書の写し(障害者の雇用の促進等に関する法律施行規則第７条で規定する数以上の常用雇用労働者を雇用している事業主に限る。)
B27: （4） | C27: 法人市民税の領収証書（直近年度分）の写し等
B28: （5） | C28: 三木市障害者雇用促進助成金入力シート
B29: （6） | C29: 三木市障害者雇用促進助成金計算書

Sheet 助成金計算書（入力不要）
A2: 三木市障害者雇用促進助成金計算書 | E2: 区 分 | F2: ='入力シート（要入力）'!C3 -> 法対象外企業
A5: 企 業 名 | B5: ='入力シート（要入力）'!C5 -> 0
A7: 雇用者数 （常用雇用+短時間雇用＊0.5） | B7: ='入力シート（要入力）'!D14+('入力シート（要入力）'!D19*0.5) -> 0 | D7: 人
A8: 法定雇用障害者者数 | B8: =ROUNDDOWN(B7*E8,0) -> 0 | D8: 人 | E8: 0.027 | F8: ←法定雇用率
A9: 雇用障害者数（換算後） | B9: =('入力シート（要入力）'!D16*2)+'入力シート（要入力）'!D17+'入力シート（要入力）'!D21+('入力シート（要入力）'!D22*0.5)+('入力シート（要入力）'!D23*1) -> 0 | D9: 人
A10: 超過障害者雇用者数 | B10: =B9-B8 -> 0 | D10: 人 | E10: Ａ
A12: 助成対象員数計算（三木市民）
A13: 常時雇用障害者 | B13: 実人員 | E13: 換算人員 | G13: 算定人員
B14: 重度 | C14: ='入力シート（要入力）'!G16 -> 0 | D14: × | E14: 2 | F14: ＝ | G14: =C14*E14 -> 0
B15: 軽度 | C15: ='入力シート（要入力）'!G17 -> 0 | D15: × | E15: 1 | F15: ＝ | G15: =C15*E15 -> 0
B16: 計 | C16: =SUM(C14:C15) -> 0 | G16: =SUM(G14:G15) -> 0
A18: 短時間雇用労働者 | B18: 実人員 | E18: 換算人員 | G18: 算定人員
B19: 重度 | C19: ='入力シート（要入力）'!G21 -> 0 | D19: × | E19: 1 | F19: ＝ | G19: =C19*E19 -> 0
B20: 軽度 | C20: ='入力シート（要入力）'!G22 -> 0 | D20: × | E20: 0.5 | F20: ＝ | G20: =C20*E20 -> 0
B21: 精神 | C21: ='入力シート（要入力）'!G23 -> 0 | D21: × | E21: 1 | F21: ＝ | G21: =C21*E21 -> 0
B22: 計 | C22: =SUM(C19:C21) -> 0 | G22: =C22*E22 -> 0
A24: 合 計 | F24: Ｂ | G24: =G16+G22 -> 0
C26: Ａ ｏｒ Ｂ の小さい方
A27: 助成金の計算 | B27: 対象人数 | C27: =MIN(B10,G24) -> 0 | D27: 人 | E27: × | F27: 100000
A29: 助成金 | B29: =C27*F27 -> 0

Sheet Sheet1
A2: 銀行 | B2: 支店 | C2: 普通
A3: 信用金庫 | B3: 支所 | C3: 当座
A4: 信用組合
A5: 農協
A6: 普通
A7: 当座
